0.3
0
0
-0.3
363000.15
4235999.85
